BEGIN:VCALENDAR
VERSION:2.0
PRODID:Spatie calendar-links
BEGIN:VEVENT
UID:067f8b859d9b31821073f64d3535f8d6
SUMMARY:Je réserve la date
DTSTAMP:20240711T223000Z
DTSTART:20240711T223000Z
DTEND:20240712T030000Z
LOCATION:Marina de Longueuil
END:VEVENT
END:VCALENDAR